BEGIN:VCALENDAR
VERSION:2.0
PRODID:-//Good Morning Eliyahu - ECPv6.15.17//NONSGML v1.0//EN
CALSCALE:GREGORIAN
METHOD:PUBLISH
X-ORIGINAL-URL:https://goodmorningeliyahu.com
X-WR-CALDESC:Events for Good Morning Eliyahu
REFRESH-INTERVAL;VALUE=DURATION:PT1H
X-Robots-Tag:noindex
X-PUBLISHED-TTL:PT1H
BEGIN:VTIMEZONE
TZID:Asia/Jerusalem
BEGIN:DAYLIGHT
TZOFFSETFROM:+0200
TZOFFSETTO:+0300
TZNAME:IDT
DTSTART:20250328T000000
END:DAYLIGHT
BEGIN:STANDARD
TZOFFSETFROM:+0300
TZOFFSETTO:+0200
TZNAME:IST
DTSTART:20251025T230000
END:STANDARD
BEGIN:DAYLIGHT
TZOFFSETFROM:+0200
TZOFFSETTO:+0300
TZNAME:IDT
DTSTART:20260327T000000
END:DAYLIGHT
BEGIN:STANDARD
TZOFFSETFROM:+0300
TZOFFSETTO:+0200
TZNAME:IST
DTSTART:20261024T230000
END:STANDARD
BEGIN:DAYLIGHT
TZOFFSETFROM:+0200
TZOFFSETTO:+0300
TZNAME:IDT
DTSTART:20270326T000000
END:DAYLIGHT
BEGIN:STANDARD
TZOFFSETFROM:+0300
TZOFFSETTO:+0200
TZNAME:IST
DTSTART:20271030T230000
END:STANDARD
END:VTIMEZONE
BEGIN:VEVENT
DTSTART;VALUE=DATE:20260922
DTEND;VALUE=DATE:20260923
DTSTAMP:20260420T201811
CREATED:20260305T134944Z
LAST-MODIFIED:20260305T134944Z
UID:59-1790035200-1790121599@goodmorningeliyahu.com
SUMMARY:UN General Assembly 2026: Strategic Analysis
DESCRIPTION:Strategic briefing on the outcomes of the UN General Assembly High-Level Week. Understanding the shifting dynamics of global governance and multilateral power. \nLimited seats. Members receive priority registration.
URL:https://goodmorningeliyahu.com/event/un-general-assembly-2026-strategic-analysis/
END:VEVENT
BEGIN:VEVENT
DTSTART;VALUE=DATE:20261001
DTEND;VALUE=DATE:20261002
DTSTAMP:20260420T201811
CREATED:20260305T135128Z
LAST-MODIFIED:20260305T135128Z
UID:61-1790812800-1790899199@goodmorningeliyahu.com
SUMMARY:BRICS Summit 2026: The Multipolar Future
DESCRIPTION:Analysis of the expanding BRICS bloc — representing over a quarter of the global economy. What does the rise of alternative power structures mean for the existing order? \nLimited seats. Members receive priority registration.
URL:https://goodmorningeliyahu.com/event/brics-summit-2026-the-multipolar-future/
END:VEVENT
BEGIN:VEVENT
DTSTART;VALUE=DATE:20261109
DTEND;VALUE=DATE:20261110
DTSTAMP:20260420T201811
CREATED:20260305T135228Z
LAST-MODIFIED:20260305T135228Z
UID:63-1794182400-1794268799@goodmorningeliyahu.com
SUMMARY:COP31 Climate Summit: Power Behind the Green Agenda
DESCRIPTION:Strategic analysis of the UN Climate Conference in Turkey. Examining the intersection of climate policy\, energy security\, and geopolitical influence. \nLimited seats. Members receive priority registration.
URL:https://goodmorningeliyahu.com/event/cop31-climate-summit-power-behind-the-green-agenda/
END:VEVENT
END:VCALENDAR